BEGIN:VCALENDAR
VERSION:2.0
CALSCALE:GREGORIAN
PRODID:-//Diputació de Barcelona//DibaCMS//EN
BEGIN:VEVENT
UID:15244
DTSTAMP:20260421T160231
DTSTART:20220528T100000
DTEND:20220528T200000
SUMMARY:Keramik: Mercat de l'escorxador
LOCATION:Rambla del Castell, s/n 08504 Sant Julià de Vilatorta
METHOD:PUBLISH
X-WR-CALNAME:sjv.info@vilatorta.cat
X-WR-TIMEZONE:Europe/Madrid
DESCRIPTION:Mercat d'autoservei, de 10 del matí a 8 del vespre, situat a l'antic escorxador, al parc de les Set Fonts. Podeu comprar peces de ceramistes emergents i algunes peces de terrissa.

URI:https://www.vilatorta.cat/temes/turisme-/keramik-mercat-de-lescorxador.html
CLASS:PUBLIC
END:VEVENT
END:VCALENDAR
