BEGIN:VCALENDAR
VERSION:2.0
CALSCALE:GREGORIAN
PRODID:-//Diputació de Barcelona//DibaCMS//EN
BEGIN:VEVENT
UID:15254
DTSTAMP:20260421T133628
DTSTART:20220610T184500
DTEND:20220610T220000
SUMMARY:Festa de final de curs de l'escola Bellpuig
LOCATION:Carrer de Calldetenes, 9 08504 Sant Julià de Vilatorta
METHOD:PUBLISH
X-WR-CALNAME:sjv.info@vilatorta.cat
X-WR-TIMEZONE:Europe/Madrid
DESCRIPTION:El divendres 10 de juny, a partir de 3/4 de 7 de la tarda, festa de final de curs de l'escola Bellpuig.

URI:https://www.vilatorta.cat/temes/turisme-/15254-festa-de-final-de-curs-de-lescola-bellpuig.html
CLASS:PUBLIC
END:VEVENT
END:VCALENDAR
