BEGIN:VCALENDAR
VERSION:2.0
CALSCALE:GREGORIAN
PRODID:-//Diputació de Barcelona//DibaCMS//EN
BEGIN:VEVENT
UID:15266
DTSTAMP:20260421T151730
DTSTART:20220602T173000
DTEND:20220602T183000
SUMMARY:Vine avui a veure l'espectacle: "Els contes de la Bleda"
LOCATION:Al costat del Bibiobús. Plaça de Catalunya 
METHOD:PUBLISH
X-WR-CALNAME:sjv.info@vilatorta.cat
X-WR-TIMEZONE:Europe/Madrid
DESCRIPTION:Avui dijous 2 de juny, a 2/4 de 6 de la tarda, hi haurà un espectacle infantil al costat del Bibliobús, a la plaça de Catalunya. L'espectacle" Els Contes de la Bleda" a càrrec d'Elena Escobar, està organitzat per la Diputació de Barcelona, el Bibliobús Guilleries i l'Ajuntament de Sant Julià de Vilatotorta. No te'l perdis!

URI:https://www.vilatorta.cat/temes/turisme-/vine-avui-a-veure-lespectacle-els-contes-de-la-bleda.html
CLASS:PUBLIC
END:VEVENT
END:VCALENDAR
