BEGIN:VCALENDAR
VERSION:2.0
CALSCALE:GREGORIAN
PRODID:-//Diputació de Barcelona//DibaCMS//EN
BEGIN:VEVENT
UID:15282
DTSTAMP:20260421T163758
DTSTART:20220617T183000
DTEND:20220617T223000
SUMMARY:Diada dels Adéus al Col·legi el Roser
LOCATION:Avinguda de Puig i Cunyer, 20 08504 Sant Julià de Vilatorta
METHOD:PUBLISH
X-WR-CALNAME:sjv.info@vilatorta.cat
X-WR-TIMEZONE:Europe/Madrid
DESCRIPTION:Demà divendres, 17 de juny, a partir de 2/4 de 7 de la tarda, al Col·legi el Roser, celebració dels actes organitzats en motiu de "La Diada dels Adéus".

URI:https://www.vilatorta.cat/temes/turisme-/diada-dels-adeus-al-collegi-el-roser.html
CLASS:PUBLIC
END:VEVENT
END:VCALENDAR
