BEGIN:VCALENDAR
VERSION:2.0
CALSCALE:GREGORIAN
PRODID:-//Diputació de Barcelona//DibaCMS//EN
BEGIN:VEVENT
UID:15283
DTSTAMP:20260421T165932
DTSTART:20220614T180000
DTEND:20220614T200000
SUMMARY:Suma't als diàlegs oberts dels reptes de futur d'Osona
LOCATION:Recinte Firal del Sucre 
METHOD:PUBLISH
X-WR-CALNAME:sjv.info@vilatorta.cat
X-WR-TIMEZONE:Europe/Madrid
DESCRIPTION:El proper dimarts 14 de juny, a les 18.00h, tindrà lloc al recinte firal El Sucre de Vic diversos diàlegs simultanis entre la ciutadania d’Osona que hi vulgui prendre part i tècnics dels 5 projectes estratègics per al futur d’Osona, en què els agents del territori estan treballant. Organitzat per Creacció.

URI:https://www.vilatorta.cat/actualitat/agenda/sumat-als-dialegs-oberts-dels-reptes-de-futur-dosona.html
CLASS:PUBLIC
END:VEVENT
END:VCALENDAR
