BEGIN:VCALENDAR
VERSION:2.0
CALSCALE:GREGORIAN
PRODID:-//Diputació de Barcelona//DibaCMS//EN
BEGIN:VEVENT
UID:15285
DTSTAMP:20260421T172111
DTSTART:20220623T201500
DTEND:20220623T223000
SUMMARY:Arriba la Flama del Canigó
LOCATION:Al costat de l’estació meteorològica a Vilalleons i darrera el pavelló a Sant Julià de Vilatorta 
METHOD:PUBLISH
X-WR-CALNAME:sjv.info@vilatorta.cat
X-WR-TIMEZONE:Europe/Madrid
DESCRIPTION:La Flama del Canigó arriba a Sant Julià de Vilatorta i Vilalleons. Celebrem plegats la diada dels Països Catalans. Bona revetlla!

URI:https://www.vilatorta.cat/temes/turisme-/15285-arriba-la-flama-del-canigo.html
CLASS:PUBLIC
END:VEVENT
END:VCALENDAR
