BEGIN:VCALENDAR
VERSION:2.0
CALSCALE:GREGORIAN
PRODID:-//Diputació de Barcelona//DibaCMS//EN
BEGIN:VEVENT
UID:15308
DTSTAMP:20260420T134213
DTSTART:20220715T220000
DTEND:20220715T233000
SUMMARY:Vicky & the Swing Brothers. Estiu Set Fonts
LOCATION:Rambla del Castell, s/n 08504 Sant Julià de Vilatorta
METHOD:PUBLISH
X-WR-CALNAME:sjv.info@vilatorta.cat
X-WR-TIMEZONE:Europe/Madrid
DESCRIPTION:El divendres 15 de juliol, a les 10 de la nit, al parc de les Set Fonts, actuació de Vicky & the Swing Brothers. Gypsy jazz: un estil emmarcat dins el swing.

URI:https://www.vilatorta.cat/temes/turisme-/vicky-and-the-swing-brothers-estiu-set-fonts.html
CLASS:PUBLIC
END:VEVENT
END:VCALENDAR
