BEGIN:VCALENDAR
VERSION:2.0
CALSCALE:GREGORIAN
PRODID:-//Diputació de Barcelona//DibaCMS//EN
BEGIN:VEVENT
UID:15333
DTSTAMP:20260421T165622
DTSTART:20220714T203000
DTEND:20220714T220000
SUMMARY:Concert de Maria Martínez & Robin Gill
LOCATION:Rambla del Castell, s/n 08504 Sant Julià de Vilatorta
METHOD:PUBLISH
X-WR-CALNAME:sjv.info@vilatorta.cat
X-WR-TIMEZONE:Europe/Madrid
DESCRIPTION:Celebrem el fi de curs les activitats de Ioga amb un concert de mantres al parc de les Set Fonts el dia 14 de julliol a les 20:30 hores.

URI:https://www.vilatorta.cat/temes/turisme-/concert-de-maria-martinez-and-robin-gill.html
CLASS:PUBLIC
END:VEVENT
END:VCALENDAR
