BEGIN:VCALENDAR
VERSION:2.0
CALSCALE:GREGORIAN
PRODID:-//Diputació de Barcelona//DibaCMS//EN
BEGIN:VEVENT
UID:15341
DTSTAMP:20260421T170214
DTSTART:20220716T220000
DTEND:20220716T235500
SUMMARY:Audició de Sardanes [Festa Major 2022]
LOCATION:Plaça Catalunya 
METHOD:PUBLISH
X-WR-CALNAME:sjv.info@vilatorta.cat
X-WR-TIMEZONE:Europe/Madrid
DESCRIPTION:Audició de sardanes amb la cobla LA FLAMA DE FARNERS

URI:https://www.vilatorta.cat/temes/turisme-/audicio-de-sardanes-festa-major-2022.html
CLASS:PUBLIC
END:VEVENT
END:VCALENDAR
