BEGIN:VCALENDAR
VERSION:2.0
CALSCALE:GREGORIAN
PRODID:-//Diputació de Barcelona//DibaCMS//EN
BEGIN:VEVENT
UID:15342
DTSTAMP:20260421T182905
DTSTART:20220716T235900
DTEND:20220717T050000
SUMMARY:Festa Post-Birratorta [Festa Major 2022]
LOCATION:Avinguda de Sant Llorenç, 80 08504 Sant Julià de Vilatorta
METHOD:PUBLISH
X-WR-CALNAME:sjv.info@vilatorta.cat
X-WR-TIMEZONE:Europe/Madrid
DESCRIPTION:FESTA POST-BIRRATORTA.

Organitza: TUPINOTS

URI:https://www.vilatorta.cat/temes/turisme-/festa-post-birratorta-festa-major-2022.html
CLASS:PUBLIC
END:VEVENT
END:VCALENDAR
