BEGIN:VCALENDAR
VERSION:2.0
CALSCALE:GREGORIAN
PRODID:-//Diputació de Barcelona//DibaCMS//EN
BEGIN:VEVENT
UID:15343
DTSTAMP:20260421T170032
DTSTART:20220717T090000
DTEND:20220717T130000
SUMMARY:Campionat de Botxes [Festa Major 2022]
LOCATION:Rambla del Castell, s/n 08504 Sant Julià de Vilatorta
METHOD:PUBLISH
X-WR-CALNAME:sjv.info@vilatorta.cat
X-WR-TIMEZONE:Europe/Madrid
DESCRIPTION:CAMPIONAT DE BOTXES

URI:https://www.vilatorta.cat/temes/turisme-/campionat-de-botxes-festa-major-2022.html
CLASS:PUBLIC
END:VEVENT
END:VCALENDAR
