BEGIN:VCALENDAR
VERSION:2.0
CALSCALE:GREGORIAN
PRODID:-//Diputació de Barcelona//DibaCMS//EN
BEGIN:VEVENT
UID:15345
DTSTAMP:20260421T152200
DTSTART:20220717T190000
DTEND:20220717T210000
SUMMARY:62ª Exposició de la Festa Major [Festa Major 2022]
LOCATION:Plaça de l'U d'octubre, núm. 2 08504 Sant Julià de Vilatorta
METHOD:PUBLISH
X-WR-CALNAME:sjv.info@vilatorta.cat
X-WR-TIMEZONE:Europe/Madrid
DESCRIPTION:Inauguració de la 62ª EXPOSICIÖ DE LA FESTA MAJOR

URI:https://www.vilatorta.cat/temes/turisme-/62a-exposicio-de-la-festa-major-festa-major-2022.html
CLASS:PUBLIC
END:VEVENT
END:VCALENDAR
