BEGIN:VCALENDAR
VERSION:2.0
CALSCALE:GREGORIAN
PRODID:-//Diputació de Barcelona//DibaCMS//EN
BEGIN:VEVENT
UID:15349
DTSTAMP:20260422T043943
DTSTART:20230720T190000
DTEND:20230720T220000
SUMMARY:Bicicletada Popular [Festa Major 2023]
LOCATION:Plaça de Catalunya 
METHOD:PUBLISH
X-WR-CALNAME:sjv.info@vilatorta.cat
X-WR-TIMEZONE:Europe/Madrid
DESCRIPTION:BICICLETADA POPULAR organitza: CC Calma. Treu la pols de la bici i participa a la bicicletada popular! Vine amb la teva família, amics/gues o veïns/es i passeu una bona estona tot pedalant. 

URI:https://www.vilatorta.cat/temes/turisme-/bicicletada-popular-festa-major-2023.html
CLASS:PUBLIC
END:VEVENT
END:VCALENDAR
