BEGIN:VCALENDAR
VERSION:2.0
CALSCALE:GREGORIAN
PRODID:-//Diputació de Barcelona//DibaCMS//EN
BEGIN:VEVENT
UID:15352
DTSTAMP:20260421T151718
DTSTART:20220722T210000
DTEND:20220722T230000
SUMMARY:Sopar Popular [Festa Major 2022]
LOCATION:Plaça Catalunya 
METHOD:PUBLISH
X-WR-CALNAME:sjv.info@vilatorta.cat
X-WR-TIMEZONE:Europe/Madrid
DESCRIPTION:SOPAR POPULAR. Torna el famós Sopar Popular! Porta la teva cadira i la teva taula i vine a sopar amb tots els vilatortins i vilatortines! Et perdràs el millor sopar de l'any?

URI:https://www.vilatorta.cat/temes/turisme-/sopar-popular-festa-major-2022.html
CLASS:PUBLIC
END:VEVENT
END:VCALENDAR
