BEGIN:VCALENDAR
VERSION:2.0
CALSCALE:GREGORIAN
PRODID:-//Diputació de Barcelona//DibaCMS//EN
BEGIN:VEVENT
UID:15354
DTSTAMP:20260421T171942
DTSTART:20220722T235900
DTEND:20220723T010000
SUMMARY:Lo Pau de Pons [Festa Major 2022]
LOCATION:Plaça Catalunya 
METHOD:PUBLISH
X-WR-CALNAME:sjv.info@vilatorta.cat
X-WR-TIMEZONE:Europe/Madrid
DESCRIPTION:Actuació de LO PAU DE PONTS per riure una estona després de sopar. Gaudeix de les paròdies i la ironia de Lo Pau de Ponts sobre la ciutat i la seva autenticitat de poble. 

URI:https://www.vilatorta.cat/temes/turisme-/lo-pau-de-pons-festa-major-2022.html
CLASS:PUBLIC
END:VEVENT
END:VCALENDAR
