BEGIN:VCALENDAR
VERSION:2.0
CALSCALE:GREGORIAN
PRODID:-//Diputació de Barcelona//DibaCMS//EN
BEGIN:VEVENT
UID:15356
DTSTAMP:20260422T044717
DTSTART:20230722T100000
DTEND:20230722T130000
SUMMARY:Inflables d'aigua [Festa Major 2023]
LOCATION:Carrer de Sant Ponç, 18 08504 Sant Julià de Vilatorta
METHOD:PUBLISH
X-WR-CALNAME:sjv.info@vilatorta.cat
X-WR-TIMEZONE:Europe/Madrid
DESCRIPTION:INFLABLES D'AIGUA. Inflables pels més menuts/des per combatre la calor a les piscines municipals! Gaudeix d'un matí familiar amb aigua i diversió. 

URI:https://www.vilatorta.cat/temes/turisme-/inflables-daigua-festa-major-2023.html
CLASS:PUBLIC
END:VEVENT
END:VCALENDAR
