BEGIN:VCALENDAR
VERSION:2.0
CALSCALE:GREGORIAN
PRODID:-//Diputació de Barcelona//DibaCMS//EN
BEGIN:VEVENT
UID:15357
DTSTAMP:20260421T210922
DTSTART:20220723T170000
DTEND:20220723T220000
SUMMARY:Holi & Escuma [Festa Major 2022]
LOCATION:zona esportiva 
METHOD:PUBLISH
X-WR-CALNAME:sjv.info@vilatorta.cat
X-WR-TIMEZONE:Europe/Madrid
DESCRIPTION:HOLI & ESCUMA. Passa una tarda de dissabte amb família i amics/gues i prepara't per embrutar-te al ritme de la música! 

URI:https://www.vilatorta.cat/temes/turisme-/holi-and-escuma-festa-major-2022.html
CLASS:PUBLIC
END:VEVENT
END:VCALENDAR
