BEGIN:VCALENDAR
VERSION:2.0
CALSCALE:GREGORIAN
PRODID:-//Diputació de Barcelona//DibaCMS//EN
BEGIN:VEVENT
UID:15358
DTSTAMP:20260421T151627
DTSTART:20220723T233000
DTEND:20220724T013000
SUMMARY:Pirates Rubaversions [Festa Major 2022]
LOCATION:Zona esportiva 
METHOD:PUBLISH
X-WR-CALNAME:sjv.info@vilatorta.cat
X-WR-TIMEZONE:Europe/Madrid
DESCRIPTION:Actuació de PIRATES RUMBVERSIONS. Versions arrumbades sense etiquetes, molt amor i empatia. Esteu a punt per ballar a ritme dels pirates de les versions?

URI:https://www.vilatorta.cat/temes/turisme-/pirates-rubaversions-festa-major-2022.html
CLASS:PUBLIC
END:VEVENT
END:VCALENDAR
