BEGIN:VCALENDAR
VERSION:2.0
CALSCALE:GREGORIAN
PRODID:-//Diputació de Barcelona//DibaCMS//EN
BEGIN:VEVENT
UID:15360
DTSTAMP:20260421T165036
DTSTART:20220723T235900
DTEND:20220724T060000
SUMMARY:DJ [Festa Major 2022]
LOCATION:Zona esportiva 
METHOD:PUBLISH
X-WR-CALNAME:sjv.info@vilatorta.cat
X-WR-TIMEZONE:Europe/Madrid
DESCRIPTION:Sessió de DJ a les 4 de la matinada. Prepara't per ballar, cantar i saltar a ritme de la música. 

URI:https://www.vilatorta.cat/temes/turisme-/dj-festa-major-2022.html
CLASS:PUBLIC
END:VEVENT
END:VCALENDAR
