BEGIN:VCALENDAR
VERSION:2.0
CALSCALE:GREGORIAN
PRODID:-//Diputació de Barcelona//DibaCMS//EN
BEGIN:VEVENT
UID:15361
DTSTAMP:20260421T182202
DTSTART:20220724T103000
DTEND:20220724T130000
SUMMARY:VIII Trobada Gegantera [Festa Major 2022]
LOCATION:plaça catalunya 
METHOD:PUBLISH
X-WR-CALNAME:sjv.info@vilatorta.cat
X-WR-TIMEZONE:Europe/Madrid
DESCRIPTION:VIII TROBADA GEGANTERA. Després d'un temps de confinament els nostres gegants: Pàmfil i Elisenda tornaran a sortir per Festa Major! Veniu a veure'ls que coneixereu el nou gegant Vilatortí! 

URI:https://www.vilatorta.cat/temes/turisme-/viii-trobada-gegantera-festa-major-2022.html
CLASS:PUBLIC
END:VEVENT
END:VCALENDAR
