BEGIN:VCALENDAR
VERSION:2.0
CALSCALE:GREGORIAN
PRODID:-//Diputació de Barcelona//DibaCMS//EN
BEGIN:VEVENT
UID:15362
DTSTAMP:20260421T150610
DTSTART:20220724T170000
DTEND:20220724T190000
SUMMARY:Audició de Sardanes [Festa Major 2022]
LOCATION:Rambla del Castell, s/n 08504 Sant Julià de Vilatorta
METHOD:PUBLISH
X-WR-CALNAME:sjv.info@vilatorta.cat
X-WR-TIMEZONE:Europe/Madrid
DESCRIPTION:Audició de sardanes amb la COBLA CANI-GO. Prepareu les sabates de set vetes per ballar a ritme de la cobla Cani-Go. 

URI:https://www.vilatorta.cat/temes/turisme-/15362-audicio-de-sardanes-festa-major-2022.html
CLASS:PUBLIC
END:VEVENT
END:VCALENDAR
