BEGIN:VCALENDAR
VERSION:2.0
CALSCALE:GREGORIAN
PRODID:-//Diputació de Barcelona//DibaCMS//EN
BEGIN:VEVENT
UID:15363
DTSTAMP:20260421T182738
DTSTART:20220724T190000
DTEND:20220724T220000
SUMMARY:Concert de Festa Major [Festa Major 2022]
LOCATION:Avinguda de Sant Llorenç, 80 08504 Sant Julià de Vilatorta
METHOD:PUBLISH
X-WR-CALNAME:sjv.info@vilatorta.cat
X-WR-TIMEZONE:Europe/Madrid
DESCRIPTION:Concert de festa major amb l'ORQUESTRA VENUS. Concert per a tots els públics amb música elegant, clàssica i moderna amb talent, joventut, personalitat i frescor! Esteu a punt per ballar de principi a fi?

URI:https://www.vilatorta.cat/temes/turisme-/concert-de-festa-major-festa-major-2022.html
CLASS:PUBLIC
END:VEVENT
END:VCALENDAR
