BEGIN:VCALENDAR
VERSION:2.0
CALSCALE:GREGORIAN
PRODID:-//Diputació de Barcelona//DibaCMS//EN
BEGIN:VEVENT
UID:15365
DTSTAMP:20260421T150431
DTSTART:20220725T180000
DTEND:20220725T200000
SUMMARY:Festa Infantil [Festa Major 2022]
LOCATION:Rambla del Castell, s/n 08504 Sant Julià de Vilatorta
METHOD:PUBLISH
X-WR-CALNAME:sjv.info@vilatorta.cat
X-WR-TIMEZONE:Europe/Madrid
DESCRIPTION:FESTA INFANTIL la COMPANYIA FILIGRANES presenta l'espectacle PLIS PLAS. Gaudeix d'una tarda amb família amb l'espectacle Plis Plas! Esteu preparats i preparades per cantar i ballar?

URI:https://www.vilatorta.cat/temes/turisme-/festa-infantil-festa-major-2022.html
CLASS:PUBLIC
END:VEVENT
END:VCALENDAR
