BEGIN:VCALENDAR
VERSION:2.0
CALSCALE:GREGORIAN
PRODID:-//Diputació de Barcelona//DibaCMS//EN
BEGIN:VEVENT
UID:15468
DTSTAMP:20260422T043835
DTSTART:20230910T190000
DTEND:20230910T203000
SUMMARY:Conferència institucional en motiu de la Diada Nacional 2023
LOCATION:Carrer del Compositor Ramon Victori, 4  08504 Sant Julià de Vilatorta
METHOD:PUBLISH
X-WR-CALNAME:sjv.info@vilatorta.cat
X-WR-TIMEZONE:Europe/Madrid
DESCRIPTION:El diumenge 10 de setembre, a les 7 de la tarda, al Saló Catalunya, es farà la conferència institucional emmarcada en els actes de commemoració de l’11 de setembre a Sant Julià de Vilatorta, a càrrec de Gerard López, periodista de Catalunya Ràdio i autor del llibre: " Treu la galleda! el català s’enfonsa, però tu el pots salvar". Després de la conferència hi haurà un petit refrigeri per tots els assistents.

URI:https://www.vilatorta.cat/actualitat/agenda/conferencia-institucional-en-motiu-de-la-diada-nacional-2023.html
CLASS:PUBLIC
END:VEVENT
END:VCALENDAR
