BEGIN:VCALENDAR
VERSION:2.0
CALSCALE:GREGORIAN
PRODID:-//Diputació de Barcelona//DibaCMS//EN
BEGIN:VEVENT
UID:15508
DTSTAMP:20260421T162620
DTSTART:20221016T140000
DTEND:20221016T170000
SUMMARY:Festa del soci del Casal d'Avis Font Noguera
LOCATION:C/ Sant Roc, 39 08504 Sant Julià de Vilatorta
METHOD:PUBLISH
X-WR-CALNAME:sjv.info@vilatorta.cat
X-WR-TIMEZONE:Europe/Madrid
DESCRIPTION:El diumenge 16 d'octubre el Casal d'Avis Font Noguera organitza la Festa del Soci 2022. 

URI:https://www.vilatorta.cat/temes/turisme-/15508-festa-del-soci-del-casal-davis-font-noguera.html
CLASS:PUBLIC
END:VEVENT
END:VCALENDAR
