BEGIN:VCALENDAR
VERSION:2.0
CALSCALE:GREGORIAN
PRODID:-//Diputació de Barcelona//DibaCMS//EN
BEGIN:VEVENT
UID:15521
DTSTAMP:20260421T210400
DTSTART:20221119T190000
DTEND:20221119T203000
SUMMARY:Anul·lada conferència-taller a càrrec de Sònia Morales
LOCATION:Avinguda de Sant Llorenç, 80 08504 Sant Julià de Vilatorta
METHOD:PUBLISH
X-WR-CALNAME:sjv.info@vilatorta.cat
X-WR-TIMEZONE:Europe/Madrid
DESCRIPTION:La conferència Naturalesa i Creativitat que Sònia Morales havia de pronunciar el dissabte 19 a la tarda ha estat anul·lada per motius personals de la conferenciant. Lamenten no poder oferir aquesta interessant conferència. Us preguem que feu arribar aquesta informació a qualsevol persona que us hagi expressat la seva intenció d'assistir a l'acte.

URI:https://www.vilatorta.cat/actualitat/agenda/anullada-conferencia-taller-a-carrec-de-sonia-morales.html
CLASS:PUBLIC
END:VEVENT
END:VCALENDAR
