BEGIN:VCALENDAR
VERSION:2.0
CALSCALE:GREGORIAN
PRODID:-//Diputació de Barcelona//DibaCMS//EN
BEGIN:VEVENT
UID:15522
DTSTAMP:20260421T163614
DTSTART:20221007T153000
DTEND:20221007T170000
SUMMARY:Inauguració del curs 2022-2023 al Col·legi El Roser
LOCATION:Avinguda de Puig i Cunyer, 20 08504 Sant Julià de Vilatorta
METHOD:PUBLISH
X-WR-CALNAME:sjv.info@vilatorta.cat
X-WR-TIMEZONE:Europe/Madrid
DESCRIPTION:El pròxim divendres 7 d´octubre de 2022 els membres del Patronat, aprofitant la Festa del Col·legi El Roser així com també la Festa dels avis i les àvies, volen convidar totes les famílies al concert que tindrà lloc al jardí de la façana principal a 2/4 de 4 de la tarda. A continuació, s´adreçaran unes paraules de benvinguda als presents i es finalitzarà l´acte amb un berenar per a tothom. Es fa extensible la invitació a tots els vilatortins i vilatortines, sobretot, i també a les persones que estimen l'escola concertada d'arreu de la comarca d'Osona.

URI:https://www.vilatorta.cat/temes/turisme-/inauguracio-del-curs-2022-2023-al-collegi-el-roser.html
CLASS:PUBLIC
END:VEVENT
END:VCALENDAR
