BEGIN:VCALENDAR
VERSION:2.0
CALSCALE:GREGORIAN
PRODID:-//Diputació de Barcelona//DibaCMS//EN
BEGIN:VEVENT
UID:15525
DTSTAMP:20260421T163652
DTSTART:20221015T080000
DTEND:20221016T190000
SUMMARY:Viu la Festa Remença a Tavèrnoles
LOCATION:Tavèrnoles 
METHOD:PUBLISH
X-WR-CALNAME:sjv.info@vilatorta.cat
X-WR-TIMEZONE:Europe/Madrid
DESCRIPTION:El proper cap de setmana 15 i 16 d’octubre Tavèrnoles acull la Festa Remença. La posada en escena de la representació de “La Presa del Castell de Savassona” tornarà a ser el principal atractiu.

URI:https://www.vilatorta.cat/temes/turisme-/viu-la-festa-remenca-a-tavernoles.html
CLASS:PUBLIC
END:VEVENT
END:VCALENDAR
