BEGIN:VCALENDAR
VERSION:2.0
CALSCALE:GREGORIAN
PRODID:-//Diputació de Barcelona//DibaCMS//EN
BEGIN:VEVENT
UID:15531
DTSTAMP:20260421T193420
DTSTART:20221017T180000
DTEND:20221017T190000
SUMMARY:Avui 17 d'octubre vine a dir-hi la teva a la nova proposta d’art urbà a Sant Julià de Vilatorta
LOCATION:Carrer del Compositor Ramon Victori, 4  08504 Sant Julià de Vilatorta
METHOD:PUBLISH
X-WR-CALNAME:sjv.info@vilatorta.cat
X-WR-TIMEZONE:Europe/Madrid
DESCRIPTION:Es convida a tot el poble a fer una trobada amb els artistes el primer dia que vinguin per proposar idees. La primera és avui dilluns 17 d'octubre amb Marta Lapeña, a les 6 de la tarda, a la plaça de Catalunya (al saló Catalunya en cas de pluja). Es tracta d’una iniciativa creada per descobrir la història i el patrimoni de Sant Julià de Vilatorta a través d’intervencions artístiques implantades als carrers del municipi. Amb l’ajuda d’un mapa podràs elaborar, en qualsevol moment de l’any, la teva pròpia ruta d’art i conèixer el llegat històric del poble. 

URI:https://www.vilatorta.cat/actualitat/agenda/15531-avui-17-doctubre-vine-a-dir-hi-la-teva-a-la-nova-proposta-dart-urba-a-sant-julia-de-vilatorta.html
CLASS:PUBLIC
END:VEVENT
END:VCALENDAR
