BEGIN:VCALENDAR
VERSION:2.0
CALSCALE:GREGORIAN
PRODID:-//Diputació de Barcelona//DibaCMS//EN
BEGIN:VEVENT
UID:15547
DTSTAMP:20260421T192534
DTSTART:20221101T180000
DTEND:20221101T200000
SUMMARY:Castanyada Popular
LOCATION:Plaça de Catalunya 
METHOD:PUBLISH
X-WR-CALNAME:sjv.info@vilatorta.cat
X-WR-TIMEZONE:Europe/Madrid
DESCRIPTION:El proper dimarts 1 de novembre vine a celebrar la castanyada a la plaça de Catalunya. A partir de les 6 de la tarda vine a menjar castanyes acompanyat i acompanyada d'amics, amigues i familiars. Tal com s'ha fet altres anys, tu portes el sopar i nosaltres les castanyes!

URI:https://www.vilatorta.cat/temes/turisme-/15547-castanyada-popular.html
CLASS:PUBLIC
END:VEVENT
END:VCALENDAR
