BEGIN:VCALENDAR
VERSION:2.0
CALSCALE:GREGORIAN
PRODID:-//Diputació de Barcelona//DibaCMS//EN
BEGIN:VEVENT
UID:15559
DTSTAMP:20260421T181612
DTSTART:20221107T173000
DTEND:20221107T193000
SUMMARY:Taller de cuina sense pares 
LOCATION:C/ Dels Marquesos de Vilallonga,34 08504 Sant Julià de Vilatorta
METHOD:PUBLISH
X-WR-CALNAME:sjv.info@vilatorta.cat
X-WR-TIMEZONE:Europe/Madrid
DESCRIPTION:Vine a fer de xef el proper dilluns 7 de novembre al Taller de Cuina sense Pares!! Per a joves de 12 (1r ESO) a 17 anys. En cas de voler-hi participar, cal posar-se en contacte amb el Punt Jove Tortí a través de l'instagram @puntjovetorti o al whatsapp 647 92 33 16. 

URI:https://www.vilatorta.cat/actualitat/agenda/taller-de-cuina-sense-pares-.html
CLASS:PUBLIC
END:VEVENT
END:VCALENDAR
