BEGIN:VCALENDAR
VERSION:2.0
CALSCALE:GREGORIAN
PRODID:-//Diputació de Barcelona//DibaCMS//EN
BEGIN:VEVENT
UID:15577
DTSTAMP:20260421T192611
DTSTART:20221127T100000
DTEND:20221127T130000
SUMMARY:Inauguració dels vestidors de la zona esportiva
LOCATION:Carrer de Sant Roc, s/n 08504 Sant Julià de Vilatorta
METHOD:PUBLISH
X-WR-CALNAME:sjv.info@vilatorta.cat
X-WR-TIMEZONE:Europe/Madrid
DESCRIPTION:El diumenge 27 de novembre, es farà la inauguració dels vestidors de la zona esportiva, a partir de les 10 del matí.

URI:https://www.vilatorta.cat/actualitat/agenda/inauguracio-dels-vestidors-de-la-zona-esportiva.html
CLASS:PUBLIC
END:VEVENT
END:VCALENDAR
