BEGIN:VCALENDAR
VERSION:2.0
CALSCALE:GREGORIAN
PRODID:-//Diputació de Barcelona//DibaCMS//EN
BEGIN:VEVENT
UID:15578
DTSTAMP:20260421T223904
DTSTART:20221120T110000
DTEND:20221120T140000
SUMMARY:Inauguració d'Artimur a Sant Julià de Vilatorta
LOCATION:plaça de Catalunya 
METHOD:PUBLISH
X-WR-CALNAME:sjv.info@vilatorta.cat
X-WR-TIMEZONE:Europe/Madrid
DESCRIPTION:El diumenge 20 de novembre, a partir de les 11 del matí, es farà la inauguració dels murals que formen part del projecte Artimur.

URI:https://www.vilatorta.cat/temes/turisme-/inauguracio-dartimur-a-sant-julia-de-vilatorta.html
CLASS:PUBLIC
END:VEVENT
END:VCALENDAR
