BEGIN:VCALENDAR
VERSION:2.0
CALSCALE:GREGORIAN
PRODID:-//Diputació de Barcelona//DibaCMS//EN
BEGIN:VEVENT
UID:15581
DTSTAMP:20260421T204835
DTSTART:20221119T203000
DTEND:20221119T220000
SUMMARY:Setmana de la Ciència. Nit d’estels
LOCATION:Avinguda de Sant Llorenç, 80 08504 Sant Julià de Vilatorta
METHOD:PUBLISH
X-WR-CALNAME:sjv.info@vilatorta.cat
X-WR-TIMEZONE:Europe/Madrid
DESCRIPTION:El dissabte 19 de novembre, a partir de 2/4 de 9 del vespre, a la zona esportiva, entra al planetari i descobreix els misteris d'una nit plena d'estels amb el planetari viatger! L'activitat consistirà en una observació astronòmica amb telescopi del cel nocturn i en especial dels planetes gegants Júpiter i Saturn. Veurem el cel de novembre.

URI:https://www.vilatorta.cat/temes/turisme-/setmana-de-la-ciencia-nit-destels.html
CLASS:PUBLIC
END:VEVENT
END:VCALENDAR
