BEGIN:VCALENDAR
VERSION:2.0
CALSCALE:GREGORIAN
PRODID:-//Diputació de Barcelona//DibaCMS//EN
BEGIN:VEVENT
UID:15585
DTSTAMP:20260421T195020
DTSTART:20221108T000000
DTEND:20221108T000000
SUMMARY:Taller de decoració nadalenca a l'Espai Activa't
LOCATION:
METHOD:PUBLISH
X-WR-CALNAME:sjv.info@vilatorta.cat
X-WR-TIMEZONE:Europe/Madrid
DESCRIPTION:
URI:https://www.vilatorta.cat/actualitat/agenda/15585-taller-de-decoracio-nadalenca-a-lespai-activat.html
CLASS:PUBLIC
END:VEVENT
END:VCALENDAR
