BEGIN:VCALENDAR
VERSION:2.0
CALSCALE:GREGORIAN
PRODID:-//Diputació de Barcelona//DibaCMS//EN
BEGIN:VEVENT
UID:15586
DTSTAMP:20260421T194348
DTSTART:20221213T100000
DTEND:20221213T120000
SUMMARY:Taller de decoració nadalenca a l'Espai Activa't
LOCATION:C/ Sant Roc, 39 08504 Sant Julià de Vilatorta
METHOD:PUBLISH
X-WR-CALNAME:sjv.info@vilatorta.cat
X-WR-TIMEZONE:Europe/Madrid
DESCRIPTION:El dimarts 13 de desembre, de 10 a 12 del matí, es farà un taller de decoració nadalenca a l'Aula del Casal Font Noguera, organitzat per l'Espai Activa't. Cal fer inscripció prèvia a  l'Ajuntament abans del 2 de desembre.

URI:https://www.vilatorta.cat/actualitat/agenda/15586-taller-de-decoracio-nadalenca-a-lespai-activat.html
CLASS:PUBLIC
END:VEVENT
END:VCALENDAR
