BEGIN:VCALENDAR
VERSION:2.0
CALSCALE:GREGORIAN
PRODID:-//Diputació de Barcelona//DibaCMS//EN
BEGIN:VEVENT
UID:15610
DTSTAMP:20260421T193257
DTSTART:20221127T190000
DTEND:20221127T200000
SUMMARY:Noemi Morral presenta "Camí de Cavalls"
LOCATION:Carrer del Compositor Ramon Victori, 4  08504 Sant Julià de Vilatorta
METHOD:PUBLISH
X-WR-CALNAME:sjv.info@vilatorta.cat
X-WR-TIMEZONE:Europe/Madrid
DESCRIPTION:El diumenge 27 de novembre, a les 7 de la tarda, al Saló Catalunya, representació de "Camí de Cavalls" amb Noemi Morral, Karina Amato i direcció de Joan Roura.

URI:https://www.vilatorta.cat/temes/turisme-/noemi-morral-presenta-cami-de-cavalls.html
CLASS:PUBLIC
END:VEVENT
END:VCALENDAR
