BEGIN:VCALENDAR
VERSION:2.0
CALSCALE:GREGORIAN
PRODID:-//Diputació de Barcelona//DibaCMS//EN
BEGIN:VEVENT
UID:15611
DTSTAMP:20260421T210425
DTSTART:20221120T170000
DTEND:20221120T180000
SUMMARY:Presentació del llibre "Tocades per la boira"
LOCATION:Sala de conferències del pavelló esportiu municipal 
METHOD:PUBLISH
X-WR-CALNAME:sjv.info@vilatorta.cat
X-WR-TIMEZONE:Europe/Madrid
DESCRIPTION:El diumenge 20 de novembre, a les 5 de la tarda, a la sala de conferències del pavelló esportiu municipal, es farà la presentació del llibre "Tocades per la boira" de l'autora vilatortina Neus Abella, conjuntament amb la vigatana Roser Rovira.

URI:https://www.vilatorta.cat/actualitat/agenda/presentacio-del-llibre-tocades-per-la-boira.html
CLASS:PUBLIC
END:VEVENT
END:VCALENDAR
