BEGIN:VCALENDAR
VERSION:2.0
CALSCALE:GREGORIAN
PRODID:-//Diputació de Barcelona//DibaCMS//EN
BEGIN:VEVENT
UID:15636
DTSTAMP:20260421T223657
DTSTART:20230115T120000
DTEND:20230115T130000
SUMMARY:Presentació del llibre "Francesc Cambó. L'últim retrat", de Borja de Riquer
LOCATION:Sala d'actes del Col·legi el Roser 
METHOD:PUBLISH
X-WR-CALNAME:sjv.info@vilatorta.cat
X-WR-TIMEZONE:Europe/Madrid
DESCRIPTION:El diumenge, 15 de gener de 2023, a les 12 del migdia, a la Sala d’actes del Col·legi El Roser, tindrà lloc la presentació del llibre "Francesc Cambó. L'últim retrat", de Borja de Riquer. L’acte s’emmarca en els actes en motiu de la festivitat de Sant Julià.

URI:https://www.vilatorta.cat/actualitat/agenda/presentacio-del-llibre-francesc-cambo-lultim-retrat-de-borja-de-riquer.html
CLASS:PUBLIC
END:VEVENT
END:VCALENDAR
