BEGIN:VCALENDAR
VERSION:2.0
CALSCALE:GREGORIAN
PRODID:-//Diputació de Barcelona//DibaCMS//EN
BEGIN:VEVENT
UID:15644
DTSTAMP:20260421T211203
DTSTART:20221219T150000
DTEND:20221219T160000
SUMMARY:Cantada dels nens de l'escola Bellpuig al casal d'avis
LOCATION:C/ Sant Roc, 39 08504 Sant Julià de Vilatorta
METHOD:PUBLISH
X-WR-CALNAME:sjv.info@vilatorta.cat
X-WR-TIMEZONE:Europe/Madrid
DESCRIPTION:El dilluns 19 de desembre, a les 3 de la tarda, els alumnes de 1r i 2n de l'escola Bellpuig cantaran nadales al csal d'avis Font Noguera.

URI:https://www.vilatorta.cat/temes/turisme-/cantada-dels-nens-de-lescola-bellpuig-al-casal-davis.html
CLASS:PUBLIC
END:VEVENT
END:VCALENDAR
