BEGIN:VCALENDAR
VERSION:2.0
CALSCALE:GREGORIAN
PRODID:-//Diputació de Barcelona//DibaCMS//EN
BEGIN:VEVENT
UID:15668
DTSTAMP:20260421T194306
DTSTART:20221229T170000
DTEND:20221229T180000
SUMMARY:Concert de la Coral Cants i Rialles al Casal d'Avis
LOCATION:C/ Sant Roc, 39 08504 Sant Julià de Vilatorta
METHOD:PUBLISH
X-WR-CALNAME:sjv.info@vilatorta.cat
X-WR-TIMEZONE:Europe/Madrid
DESCRIPTION:El divendres 29 de desembre, a les 5 de la tarda, la Coral Cants i Rialles oferirà un concert al casal d'avis. A continuació es brindarà per acomiadar l'any i donar la benvinguda al 2023.

URI:https://www.vilatorta.cat/temes/turisme-/concert-de-la-coral-cants-i-rialles-al-casal-davis.html
CLASS:PUBLIC
END:VEVENT
END:VCALENDAR
