BEGIN:VCALENDAR
VERSION:2.0
CALSCALE:GREGORIAN
PRODID:-//Diputació de Barcelona//DibaCMS//EN
BEGIN:VEVENT
UID:15695
DTSTAMP:20260422T215923
DTSTART:20230312T180000
DTEND:20230312T200000
SUMMARY:Sardanes: Audició d'hivern
LOCATION:
METHOD:PUBLISH
X-WR-CALNAME:sjv.info@vilatorta.cat
X-WR-TIMEZONE:Europe/Madrid
DESCRIPTION:El diumenge 12 de març, a les 5 de la tarda, al pavelló esportiu municipal tindrà lloc una audició de sardanes a càrrec de la Principal de la Bisbal. 

URI:https://www.vilatorta.cat/temes/turisme-/15695-sardanes-audicio-dhivern.html
CLASS:PUBLIC
END:VEVENT
END:VCALENDAR
