BEGIN:VCALENDAR
VERSION:2.0
CALSCALE:GREGORIAN
PRODID:-//Diputació de Barcelona//DibaCMS//EN
BEGIN:VEVENT
UID:15701
DTSTAMP:20260422T000218
DTSTART:20230423T000500
DTEND:20230423T235500
SUMMARY:Diada de Sant Jordi, Patró de Catalunya
LOCATION:Plaça de Catalunya
Saló Catalunya en cas de pluja 
METHOD:PUBLISH
X-WR-CALNAME:sjv.info@vilatorta.cat
X-WR-TIMEZONE:Europe/Madrid
DESCRIPTION:El proper diumenge 23 d'abril se celebrarà la bonica diada de Sant Jordi a Sant Julià de Vilatorta! En motiu d'aquesta, a banda de les paradetes de roses que podreu trobar al llarg del diumenge, tindrà lloc un espectacle infantil a càrrec de la companyia Amagatotis que presenta El patufet, amb una visió moderna i actualitzada, a la plaça de Catalunya a les 6 de la tarda. En cas de pluja es farà al saló Catalunya.

URI:https://www.vilatorta.cat/temes/turisme-/diada-de-sant-jordi-patro-de-catalunya.html
CLASS:PUBLIC
END:VEVENT
END:VCALENDAR
