BEGIN:VCALENDAR
VERSION:2.0
CALSCALE:GREGORIAN
PRODID:-//Diputació de Barcelona//DibaCMS//EN
BEGIN:VEVENT
UID:15733
DTSTAMP:20260422T091914
DTSTART:20231031T090000
DTEND:20231031T170000
SUMMARY:Castanyada a l'Escola Bellpuig 
LOCATION:Carrer de Calldetenes, 9 08504 Sant Julià de Vilatorta
METHOD:PUBLISH
X-WR-CALNAME:sjv.info@vilatorta.cat
X-WR-TIMEZONE:Europe/Madrid
DESCRIPTION:El diimarts 31 d’octubre, l’Escola Bellpuig celebrarà la Castanyada. Al matí, la senyora Castanyera visitarà a tot l'alumnat de l'escola. A partir d'1/4 de 4 de la tarda convidem a les famílies a participar de Ia "I Fira de Tardor Bellpuig" i gaudir de les activitats que han preparat els alumnes en diferents parades. La fira conclourà ballant tots junts una sardana al mig del pati. Tots els cursos, al llarg de la setmana, faran alguna activitat relacionada amb la castanyada i/o la tardor.

URI:https://www.vilatorta.cat/temes/turisme-/castanyada-a-lescola-bellpuig-.html
CLASS:PUBLIC
END:VEVENT
END:VCALENDAR
