BEGIN:VCALENDAR
VERSION:2.0
CALSCALE:GREGORIAN
PRODID:-//Diputació de Barcelona//DibaCMS//EN
BEGIN:VEVENT
UID:15883
DTSTAMP:20260422T000816
DTSTART:20230415T190000
DTEND:20230415T200000
SUMMARY:Presentació del llibre de poemes de Santi Mercader
LOCATION:Plaça de l'U d'octubre, núm. 2 08504 Sant Julià de Vilatorta
METHOD:PUBLISH
X-WR-CALNAME:sjv.info@vilatorta.cat
X-WR-TIMEZONE:Europe/Madrid
DESCRIPTION:El dissabte 15 d'abril, a les 7 de la tarda, a l'Aula de Cultura, Santi Mercader presentarà el seu llibre de poemes.

URI:https://www.vilatorta.cat/actualitat/agenda/presentacio-del-llibre-de-poemes-de-santi-mercader.html
CLASS:PUBLIC
END:VEVENT
END:VCALENDAR
