BEGIN:VCALENDAR
VERSION:2.0
CALSCALE:GREGORIAN
PRODID:-//Diputació de Barcelona//DibaCMS//EN
BEGIN:VEVENT
UID:15885
DTSTAMP:20260421T223708
DTSTART:20230406T000000
DTEND:20230406T000000
SUMMARY:Activitat comunitària de grups de suport emocional
LOCATION:Plaça de l'U d'octubre, núm. 2 08504 Sant Julià de Vilatorta
METHOD:PUBLISH
X-WR-CALNAME:sjv.info@vilatorta.cat
X-WR-TIMEZONE:Europe/Madrid
DESCRIPTION:Des del Centre de salut primària de Sta. Eugènia de Berga organitzen una activitat comunitària de grups de suport emocional obert a totes les edats. A  Sant Julià de Vilatorta es farà el 20 d’abril, 4 de maig i 15 de juny, de 10 a 11 del matí, a l’Aula de Cultura.

URI:https://www.vilatorta.cat/actualitat/agenda/15885-activitat-comunitaria-de-grups-de-suport-emocional.html
CLASS:PUBLIC
END:VEVENT
END:VCALENDAR
