BEGIN:VCALENDAR
VERSION:2.0
CALSCALE:GREGORIAN
PRODID:-//Diputació de Barcelona//DibaCMS//EN
BEGIN:VEVENT
UID:15894
DTSTAMP:20260421T235858
DTSTART:20230427T193000
DTEND:20230427T210000
SUMMARY:Concert de cant vèdic
LOCATION:Carrer de Núria, 17 08504 Sant Julià de Vilatorta
METHOD:PUBLISH
X-WR-CALNAME:sjv.info@vilatorta.cat
X-WR-TIMEZONE:Europe/Madrid
DESCRIPTION:Avui dijous 27 d'abril, a 2/4 de 8 del vespre, Alicia Corral oferirà un concert de cant vèdic a l'Espaikaya. 

URI:https://www.vilatorta.cat/temes/turisme-/concert-de-cant-vedic.html
CLASS:PUBLIC
END:VEVENT
END:VCALENDAR
