BEGIN:VCALENDAR
VERSION:2.0
CALSCALE:GREGORIAN
PRODID:-//Diputació de Barcelona//DibaCMS//EN
BEGIN:VEVENT
UID:15937
DTSTAMP:20260422T000046
DTSTART:20230507T120000
DTEND:20230507T130000
SUMMARY:25è aniversari de la Coral Cants i Rialles
LOCATION:Plaça de l'U d'Octubre 
METHOD:PUBLISH
X-WR-CALNAME:sjv.info@vilatorta.cat
X-WR-TIMEZONE:Europe/Madrid
DESCRIPTION:En motiu del seu 25è aniversari, la Coral Cants i Rialles us convida a participar al cercle de percussió, amb Jordi Vinyoles, el diumenge 7 de maig, a les 12 del midia, a la plaça de l'U d'Octubre (davant l'Aula de Cultura).

URI:https://www.vilatorta.cat/temes/turisme-/15937-25e-aniversari-de-la-coral-cants-i-rialles.html
CLASS:PUBLIC
END:VEVENT
END:VCALENDAR
