BEGIN:VCALENDAR
VERSION:2.0
CALSCALE:GREGORIAN
PRODID:-//Diputació de Barcelona//DibaCMS//EN
BEGIN:VEVENT
UID:15969
DTSTAMP:20260422T013031
DTSTART:20230603T200000
DTEND:20230603T210000
SUMMARY:Keramik 2023: Espectacle “Mans de fang”
LOCATION:Rambla del Castell, s/n 08504 Sant Julià de Vilatorta
METHOD:PUBLISH
X-WR-CALNAME:sjv.info@vilatorta.cat
X-WR-TIMEZONE:Europe/Madrid
DESCRIPTION:Concert multidisciplinar a càrrec del projecte Bauma a les 8 del vespre, al parc de les Set Fonts.

URI:https://www.vilatorta.cat/temes/turisme-/keramik-2023-espectacle-mans-de-fang.html
CLASS:PUBLIC
END:VEVENT
END:VCALENDAR
