BEGIN:VCALENDAR
VERSION:2.0
CALSCALE:GREGORIAN
PRODID:-//Diputació de Barcelona//DibaCMS//EN
BEGIN:VEVENT
UID:15971
DTSTAMP:20260422T010951
DTSTART:20230603T100000
DTEND:20230603T200000
SUMMARY:Keramik 2023. Exposició del ceramista Roger Coll
LOCATION:Rambla del Castell, s/n 08504 Sant Julià de Vilatorta
METHOD:PUBLISH
X-WR-CALNAME:sjv.info@vilatorta.cat
X-WR-TIMEZONE:Europe/Madrid
DESCRIPTION:Exposició del ceramista Roger Coll, que pertany a una jove generació d’artistes que reinterpreten la tradició ceràmica i l’eleven de la categoria d’artesania a la d’art escultòric. I si vols guanyar una nit a l'"Hotel Ruger" envoltat de ceràmica, al parc de les Set Fonts, visita l'exposició, segueix Keràmik a l'instagram i omple la bulleta. Molta sort!

URI:https://www.vilatorta.cat/actualitat/agenda/keramik-2023-exposicio-del-ceramista-roger-coll.html
CLASS:PUBLIC
END:VEVENT
END:VCALENDAR
